
BEGIN:VCALENDAR
VERSION:2.0
PRODID:-//Διεθνές Πανεπιστήμιο της Ελλάδος - ECPv6.15.20//NONSGML v1.0//EN
CALSCALE:GREGORIAN
METHOD:PUBLISH
X-ORIGINAL-URL:https://www.ihu.gr
X-WR-CALDESC:Events for Διεθνές Πανεπιστήμιο της Ελλάδος
REFRESH-INTERVAL;VALUE=DURATION:PT1H
X-Robots-Tag:noindex
X-PUBLISHED-TTL:PT1H
BEGIN:VTIMEZONE
TZID:UTC
BEGIN:STANDARD
TZOFFSETFROM:+0000
TZOFFSETTO:+0000
TZNAME:UTC
DTSTART:20210101T000000
END:STANDARD
END:VTIMEZONE
BEGIN:VEVENT
DTSTART;VALUE=DATE:20220603
DTEND;VALUE=DATE:20220604
DTSTAMP:20260423T061554
CREATED:20220530T182823Z
LAST-MODIFIED:20220530T183644Z
UID:14608-1654214400-1654300799@www.ihu.gr
SUMMARY:Κυκλική Οικονομία Καινοτομία και Εργαστήρια Δεξιοτήτων στο Σύγχρονο Σχολείο
DESCRIPTION:Διοργάνωση στην πόλη των Ιωαννίνων Ημερίδας με θέμα «Κυκλική Οικονομία Καινοτομία και Εργαστήρια Δεξιοτήτων στο Σύγχρονο Σχολείο»\, από το Τμήμα Μηχανικών Περιβάλλοντος σε συνεργασία με την Ομάδα Συντονιστών του ΠΕΚΕΣ/ΠΕΔΙΕΚ ΗΠΕΙΡΟΥ\, υπό την Αιγίδα του Υπουργείου Περιβάλλοντος και Ενέργειας. \n \n 
URL:https://www.ihu.gr/event/%ce%ba%cf%85%ce%ba%ce%bb%ce%b9%ce%ba%ce%ae-%ce%bf%ce%b9%ce%ba%ce%bf%ce%bd%ce%bf%ce%bc%ce%af%ce%b1-%ce%ba%ce%b1%ce%b9%ce%bd%ce%bf%cf%84%ce%bf%ce%bc%ce%af%ce%b1-%ce%ba%ce%b1%ce%b9-%ce%b5%cf%81%ce%b3
ATTACH;FMTTYPE=image/jpeg:https://www.ihu.gr/wp-content/uploads/2022/05/afisa-ko-t1.jpg
END:VEVENT
BEGIN:VEVENT
DTSTART;VALUE=DATE:20220607
DTEND;VALUE=DATE:20220625
DTSTAMP:20260423T061554
CREATED:20220606T152731Z
LAST-MODIFIED:20220606T154139Z
UID:14719-1654560000-1656115199@www.ihu.gr
SUMMARY:Μικρές Ιστορίες Επανάστασης
DESCRIPTION:Το Τμήμα Δημιουργικού Σχεδιασμού και Ένδυσης της Πανεπιστημιούπολης Σερρών του Διεθνούς Πανεπιστημίου της Ελλάδος διοργανώνει έκθεση με τίτλο Μικρές Ιστορίες Επανάστασης στην Αυστροελληνική Καπναποθήκη Κιλκίς \nΗ περιοδική έκθεση είναι ενταγμένη στον εορτασμό των φετινών Ελευθερίων του Δήμου Κιλκίς και εγκαινιάζεται την Τρίτη 7 Ιουνίου στις 18:00 στην Αυστροελληνική Καπναποθήκη. \nΗμέρες και ώρες λειτουργίας: Τρίτη\, Τετάρτη\, Πέμπτη και Παρασκευή 9:00-13:00 και Τρίτη\, Πέμπτη\, Παρασκευή 18:00 -20:00. \nΔΕΛΤΙΟ ΤΥΠΟΥ
URL:https://www.ihu.gr/event/%ce%bc%ce%b9%ce%ba%cf%81%ce%ad%cf%82-%ce%b9%cf%83%cf%84%ce%bf%cf%81%ce%af%ce%b5%cf%82-%ce%b5%cf%80%ce%b1%ce%bd%ce%ac%cf%83%cf%84%ce%b1%cf%83%ce%b7%cf%82
CATEGORIES:Εκδηλώσεις
ATTACH;FMTTYPE=image/jpeg:https://www.ihu.gr/wp-content/uploads/2022/06/ΑΦΙΣΑ_-_ΜΙΚΡΕΣ_ΙΣΤΟΡΙΕΣ_ΕΠΑΝΑΣΤΑΣΗΣ-001.jpg
END:VEVENT
END:VCALENDAR