
BEGIN:VCALENDAR
VERSION:2.0
PRODID:-//Διεθνές Πανεπιστήμιο της Ελλάδος - ECPv6.15.20//NONSGML v1.0//EN
CALSCALE:GREGORIAN
METHOD:PUBLISH
X-WR-CALNAME:Διεθνές Πανεπιστήμιο της Ελλάδος
X-ORIGINAL-URL:https://www.ihu.gr
X-WR-CALDESC:Events for Διεθνές Πανεπιστήμιο της Ελλάδος
REFRESH-INTERVAL;VALUE=DURATION:PT1H
X-Robots-Tag:noindex
X-PUBLISHED-TTL:PT1H
BEGIN:VTIMEZONE
TZID:Europe/Athens
BEGIN:DAYLIGHT
TZOFFSETFROM:+0200
TZOFFSETTO:+0300
TZNAME:EEST
DTSTART:20220327T010000
END:DAYLIGHT
BEGIN:STANDARD
TZOFFSETFROM:+0300
TZOFFSETTO:+0200
TZNAME:EET
DTSTART:20221030T010000
END:STANDARD
BEGIN:DAYLIGHT
TZOFFSETFROM:+0200
TZOFFSETTO:+0300
TZNAME:EEST
DTSTART:20230326T010000
END:DAYLIGHT
BEGIN:STANDARD
TZOFFSETFROM:+0300
TZOFFSETTO:+0200
TZNAME:EET
DTSTART:20231029T010000
END:STANDARD
BEGIN:DAYLIGHT
TZOFFSETFROM:+0200
TZOFFSETTO:+0300
TZNAME:EEST
DTSTART:20240331T010000
END:DAYLIGHT
BEGIN:STANDARD
TZOFFSETFROM:+0300
TZOFFSETTO:+0200
TZNAME:EET
DTSTART:20241027T010000
END:STANDARD
END:VTIMEZONE
BEGIN:VEVENT
DTSTART;TZID=Europe/Athens:20230128T193000
DTEND;TZID=Europe/Athens:20230128T200000
DTSTAMP:20260421T111944
CREATED:20230118T105408Z
LAST-MODIFIED:20230118T105804Z
UID:17288-1674934200-1674936000@www.ihu.gr
SUMMARY:Εκδήλωση με θέμα «Έξυπνο επαγγελματικό μέλλον\, Έξυπνες επιλογές στο παρόν! –Ο επαγγελματικός προσανατολισμός γίνεται πράσινος»
DESCRIPTION:Σάββατο\, 28 Ιανουαρίου 2023\, 17.30-20.00 Hyatt Regency Θεσ/νίκης (Αίθουσα Ballroom 3) \nTo Ελληνο-Ιταλικό Επιμελητήριο Θεσσαλονίκης\,\nσε συνεργασία με:\nτη Γραμματεία Περιβάλλοντος & Κλιματικής Αλλαγής της Διοικούσας Επιτροπής ΝΔ Ν.Θεσσαλονίκης\nκαι τοΤμήμα Μηχανικών Περιβάλλοντος του Διεθνούς Πανεπιστημίου Ελλάδος\nδιοργανώνει στο πλαίσιο του MONEYSHOW εκδήλωση ενημερωτικού και εκπαιδευτικού περιεχομένου με θέμα:\n«Έξυπνο επαγγελματικό μέλλον\, Έξυπνες επιλογές στο παρόν! –Ο επαγγελματικός προσανατολισμός γίνεται πράσινος»\nκαι τίτλο:\n“Τα Πράσινα Επαγγέλματα του Μέλλοντος”.\nΣάββατο\, 28 Ιανουαρίου 2023\, 17.30-20.00 Hyatt Regency Θεσ/νίκης (Αίθουσα Ballroom 3) \n 
URL:https://www.ihu.gr/event/%ce%b7%ce%bc%ce%b5%cf%81%ce%af%ce%b4%ce%b1-%ce%bc%ce%b5-%ce%b8%ce%ad%ce%bc%ce%b1-%ce%ba%cf%85%ce%ba%ce%bb%ce%b9%ce%ba%ce%ae-%ce%bf%ce%b9%ce%ba%ce%bf%ce%bd%ce%bf%ce%bc%ce%af%ce%b1-%ce%bd%ce%b5%cf%81-2
CATEGORIES:Εκδηλώσεις
END:VEVENT
END:VCALENDAR